BEGIN:VCALENDAR
VERSION:2.0
PRODID:spatie/icalendar-generator
DESCRIPTION:Events from Bexhill Sailing Club
X-WR-CALDESC:Events from Bexhill Sailing Club
REFRESH-INTERVAL;VALUE=DURATION:PT1440M
X-PUBLISHED-TTL:PT1440M
BEGIN:VTIMEZONE
TZID:Etc/GMT+0
BEGIN:STANDARD
DTSTART:20250729T180000Z
TZOFFSETFROM:+0000
TZOFFSETTO:+0000
END:STANDARD
END:VTIMEZONE
BEGIN:VTIMEZONE
TZID:UTC
BEGIN:STANDARD
DTSTART:20250723T130106Z
TZOFFSETFROM:+0000
TZOFFSETTO:+0000
END:STANDARD
END:VTIMEZONE
BEGIN:VEVENT
UID:863-681
DTSTAMP:20260419T130106Z
SUMMARY:Saturday Evening Series 2 (HW 19:23\, 5.7m\, Race Type A)
LOCATION:
ORGANIZER;CN=Dave Baldwin:MAILTO:davey_b24@hotmail.com
DTSTART;TZID=Etc/GMT+0:20260425T180000
DTEND;TZID=Etc/GMT+0:20260425T190000
X-ALT-DESC;FMTTYPE=TEXT/HTML:
CATEGORIES:Race
URL;VALUE=URI:https://bexhillsailing.club/calendar/?mc_id=863&#038;vcal=863
METHOD:PUBLISH
END:VEVENT
END:VCALENDAR