BEGIN:VCALENDAR
VERSION:2.0
PRODID:spatie/icalendar-generator
DESCRIPTION:Events from Bexhill Sailing Club
X-WR-CALDESC:Events from Bexhill Sailing Club
REFRESH-INTERVAL;VALUE=DURATION:PT1440M
X-PUBLISHED-TTL:PT1440M
BEGIN:VTIMEZONE
TZID:Etc/GMT+0
BEGIN:STANDARD
DTSTART:20250805T103000Z
TZOFFSETFROM:+0000
TZOFFSETTO:+0000
END:STANDARD
END:VTIMEZONE
BEGIN:VTIMEZONE
TZID:UTC
BEGIN:STANDARD
DTSTART:20250724T125211Z
TZOFFSETFROM:+0000
TZOFFSETTO:+0000
END:STANDARD
END:VTIMEZONE
BEGIN:VEVENT
UID:868-683
DTSTAMP:20260420T125211Z
SUMMARY:Early May 1 (HW 12:36\, 6.89m\, Race Type B)
LOCATION:
ORGANIZER;CN=Dave Baldwin:MAILTO:davey_b24@hotmail.com
DTSTART;TZID=Etc/GMT+0:20260502T103000
DTEND;TZID=Etc/GMT+0:20260502T113000
X-ALT-DESC;FMTTYPE=TEXT/HTML:
CATEGORIES:Race
URL;VALUE=URI:https://bexhillsailing.club/calendar/?mc_id=868&#038;vcal=868
METHOD:PUBLISH
END:VEVENT
END:VCALENDAR