BEGIN:VCALENDAR
VERSION:2.0
PRODID:spatie/icalendar-generator
DESCRIPTION:Events from Bexhill Sailing Club
X-WR-CALDESC:Events from Bexhill Sailing Club
REFRESH-INTERVAL;VALUE=DURATION:PT1440M
X-PUBLISHED-TTL:PT1440M
BEGIN:VTIMEZONE
TZID:Etc/GMT+0
BEGIN:STANDARD
DTSTART:20250806T090000Z
TZOFFSETFROM:+0000
TZOFFSETTO:+0000
END:STANDARD
END:VTIMEZONE
BEGIN:VTIMEZONE
TZID:UTC
BEGIN:STANDARD
DTSTART:20250729T134131Z
TZOFFSETFROM:+0000
TZOFFSETTO:+0000
END:STANDARD
END:VTIMEZONE
BEGIN:VEVENT
UID:906-720
DTSTAMP:20260425T134131Z
SUMMARY:Get Back Into Sailing
LOCATION:
ORGANIZER;CN=Dave Baldwin:MAILTO:davey_b24@hotmail.com
DTSTART;TZID=Etc/GMT+0:20260503T090000
DTEND;TZID=Etc/GMT+0:20260503T100000
X-ALT-DESC;FMTTYPE=TEXT/HTML:
CATEGORIES:Training
URL;VALUE=URI:https://bexhillsailing.club/calendar/?mc_id=906&#038;vcal=906
METHOD:PUBLISH
END:VEVENT
END:VCALENDAR